BEGIN:VCALENDAR
VERSION:2.0
PRODID:-//Runtoswim - ECPv6.15.18//NONSGML v1.0//EN
CALSCALE:GREGORIAN
METHOD:PUBLISH
X-WR-CALNAME:Runtoswim
X-ORIGINAL-URL:https://www.runtoswim.com
X-WR-CALDESC:Events for Runtoswim
REFRESH-INTERVAL;VALUE=DURATION:PT1H
X-Robots-Tag:noindex
X-PUBLISHED-TTL:PT1H
BEGIN:VTIMEZONE
TZID:UTC
BEGIN:STANDARD
TZOFFSETFROM:+0000
TZOFFSETTO:+0000
TZNAME:UTC
DTSTART:20250101T000000
END:STANDARD
END:VTIMEZONE
BEGIN:VEVENT
DTSTART;TZID=UTC:20260627T070000
DTEND;TZID=UTC:20260627T120000
DTSTAMP:20260419T212929
CREATED:20260218T081542Z
LAST-MODIFIED:20260218T081542Z
UID:1948-1782543600-1782561600@www.runtoswim.com
SUMMARY:Megisti–Kaş Navigation Briefing 2026
DESCRIPTION:First Name *Last Name *Email *Mobile NumberPhone *Have you raced Megisti–Kaş before? *Yes\, at least onceNo\, this will be my first timeAnything we should know? CommentSubmit
URL:https://www.runtoswim.com/event/meis-kas-navigation-2026/
LOCATION:Kaş Peninsula\, Antalya\, Kaş\, Turkey
ORGANIZER;CN="Baha Demirci":MAILTO:bahademirci@gmail.com
END:VEVENT
END:VCALENDAR